<?xml version="1.0" encoding="ISO-8859-1"?>
<metadata>
	<idinfo>
		<citation>
			<citeinfo>
				<origin>Intermap Technologies Inc.</origin>
				<pubdate>20060222</pubdate>
				<title Sync="TRUE">OahuDSM.img</title>
				<edition>1</edition>
				<geoform Sync="TRUE">remote-sensing image</geoform>
				<serinfo>
					<sername>Digital Surface Models</sername>
					<issue>Core Product Version: 1, Edit Rule Version: 1</issue>
				</serinfo>
				<pubinfo>
					<pubplace>Englewood, CO</pubplace>
					<publish>Intermap Technologies Inc.</publish>
				</pubinfo>
				<onlink Sync="TRUE">\\psc-s-puka\gis1\GIS\Databank\Terrestrial\Topography\IfSAR\Hawaii\Projected Mosaics\DSM\OahuDSM.img</onlink>
				<onlink Sync="TRUE">\\psc-s-puka\gis1\GIS\Databank\Terrestrial\Topography\IfSAR\Hawaii\Projected Mosaics\DSM\OahuDSM.img</onlink>
				<ftname Sync="TRUE">OahuDSM.img</ftname></citeinfo>
		</citation>
		<descript>
			<abstract>
Intermap DEMs populate its data store. The DEM products are generated using
Intermap's STAR technology (Interferometric Synthetic Aperture Radar). The system is
mounted in an aircraft.

The Digital Surface Model (DSM) products represent the first reflective
surface as illuminated by the radar. Accuracy statements are based on areas of
moderate terrain. Diminished accuracies are to be expected in areas of extreme
terrain and dense vegetation.

The DSM data for 7.5-minute by 7.5-minute units correspond to the USGS 1:24,000
scale topographic quadrangle map series for areas in the United States and throughout
the world. Each tile provides full coverage with overlap into adjacent tiles. Data for
locations above 56 degrees North/South are licensed in 7.5-minute by 15-minute tiles.
</abstract>
			<purpose>
The DSMs are used as a fundamental layer of information in Geographic
Information Systems (GIS) and Spatial Information Decision Support Systems
(DSS). A number of the priority layers of spatial information recognized
by the National Spatial Data Infrastructure may be derived from
Intermap DEMs, including elevation, hydrography, slope, aspect, and shoreline
delineation.
</purpose>
			<supplinf>None</supplinf>
			<langdata Sync="TRUE">en</langdata></descript>
		<timeperd>
			<timeinfo>
				<sngdate>
					<caldate>REQUIRED: The year (and optionally month, or month and day) for which the data set corresponds to the ground.</caldate>
				</sngdate>
				<rngdates>
					<begdate>20051016</begdate>
					<enddate>20051023</enddate>
				</rngdates>
			</timeinfo>
			<current>
The above dates refer to the time of field data acquisition and therefore reflect
ground conditions at that time.
</current>
		</timeperd>
		<status>
			<progress>Complete</progress>
			<update>Ongoing</update>
		</status>
		<spdom>
			<bounding>
				<westbc Sync="TRUE">-158.377153</westbc>
				<eastbc Sync="TRUE">-157.620570</eastbc>
				<northbc Sync="TRUE">21.720111</northbc>
				<southbc Sync="TRUE">21.245531</southbc>
			</bounding>
			<lboundng><leftbc Sync="TRUE">564624.262391</leftbc><rightbc Sync="TRUE">642678.261003</rightbc><bottombc Sync="TRUE">2349942.110254</bottombc><topbc Sync="TRUE">2401978.109328</topbc></lboundng></spdom>
		<keywords>
			<theme>
				<themekt>MEL_Scientific-Engineering_Field_Thesaurus</themekt>
				<themekey>Elevation</themekey>
				<themekey>Cartography</themekey>
				<themekey>Geodesy</themekey>
				<themekey>Geography</themekey>
				<themekey>Hypsography</themekey>
				<themekey>Mapping</themekey>
				<themekey>Photogrammetry</themekey>
				<themekey>Stereophotogrammetry</themekey>
				<themekey>Topography</themekey>
				<themekey>Radar</themekey>
				<themekey>Interferometric</themekey>
				<themekey>Remote</themekey>
				<themekey>Sensing</themekey>
				<themekey>SAR</themekey>
				<themekey>DEM</themekey>
				<themekey>DTM</themekey>
				<themekey>DSM</themekey>
				<themekey>ORRI</themekey>
				<themekey>ORI</themekey>
				<themekey>STAR-3i(Reg.)</themekey>
				<themekey>INSAR</themekey>
				<themekey>IFSAR</themekey>
				<themekey>IFSARE</themekey>
				<themekey>GEOSAR</themekey>
				<themekey>height</themekey>
			</theme>
			<place>
				<placekt>None</placekt>
				<placekey>USA</placekey>
				<placekey>Hawaii</placekey>
			</place>
			<stratum>
				<stratkt>MEL_Environmental_Domain_Thesaurus</stratkt>
				<stratkey>Terrain</stratkey>
				<stratkey>Earth</stratkey>
				<stratkey>Surface</stratkey>
				<stratkey>Bald</stratkey>
				<stratkey>Ground</stratkey>
				<stratkey>First</stratkey>
			</stratum>
			<temporal>
				<tempkt>None</tempkt>
				<tempkey>2005</tempkey>
				<tempkey>October</tempkey>
			</temporal>
		</keywords>
		<accconst>Purchase</accconst>
		<useconst>End User License Agreement</useconst>
		<ptcontac>
			<cntinfo>
				<cntorgp>
					<cntorg>Intermap Technologies Inc.</cntorg>
				</cntorgp>
				<cntpos>Data Archive Manager</cntpos>
				<cntaddr>
					<addrtype>mailing address</addrtype>
					<address>400 Inverness Drive S., Suite 330</address>
					<city>Englewood</city>
					<state>CO</state>
					<postal>80112-5847</postal>
					<country>USA</country>
				</cntaddr>
				<cntvoice>(303) 708-0955</cntvoice>
				<cntfax>(303) 708-0952</cntfax>
				<cntemail>mailto:info@intermap.com</cntemail>
			</cntinfo>
		</ptcontac>
		<datacred>This data was produced by Intermap Technologies Inc.</datacred>
		<native Sync="TRUE">Microsoft Windows XP Version 5.1 (Build 2600) Service Pack 2; ESRI ArcCatalog 9.2.4.1420</native>
		<crossref>
			<citeinfo>
				<origin>Intermap Technologies Inc.</origin>
				<pubdate>Unknown</pubdate>
				<title>n18w155h5ori.tif</title>
				<edition>1</edition>
				<geoform>Orthorectified Radar Image(ORI)</geoform>
				<serinfo>
					<sername>Orthorectified Radar Image(ORI)</sername>
					<issue>Core Product Version: 1, Edit Rule Version: 1</issue>
				</serinfo>
				<onlink>&lt;URL: http://www.intermap.com&gt;</onlink>
				<onlink>&lt;URL: http://www.intermap.com/images/handbook/producthandbook.pdf&gt;</onlink>
			</citeinfo>
		</crossref>
		<natvform Sync="TRUE">Raster Dataset</natvform></idinfo>
	<dataqual>
		<attracc>
			<attraccr>
Calculation of the digital elevation model accuracy is described in the
Intermap Technologies Core Product Handbook User's Guide. &lt;URL:http://www.intermap.com/images/handbook/producthandbook.pdf&gt;
</attraccr>
		</attracc>
		<complete>Coverage maps are provided for each area of acquisition. &lt;URL:http://www.intermap.com&gt;</complete>
		<posacc>
			<horizpa>
				<horizpar>All data products are 2 meters RMSE or better in areas of unobstructed flat ground.</horizpar>
			</horizpa>
			<vertacc>
				<vertaccr>1 meter RMSE or better in areas of unobstructed flat ground.</vertaccr>
			</vertacc>
		</posacc>
		<lineage>
			<procstep>
				<procdesc>
This DEM data product was derived using Intermap
Technologie's airborne interferometric SAR data acquisition system. The flying height
is 29,500 feet Above Mean Sea Level. The primary look direction is West. Areas of
missing data are interpolated using continuous curvature spline over non-data areas.
Most incidences of non-data areas are due to radar shadow and layover due to steep
terrain. Radar shadow is a factor of the local topography. It is often found in
mountainous regions and the urban canyons of built-up areas. Occurrences of non-data
areas within a DEM are dependent on the look direction of the radar. Significant inland
bodies of water are assigned an elevation which corresponds to the shoreline. The ocean
area delineated from the Orthorectified RADAR Image (ORI) has been assigned the value -32767.
</procdesc>
				<procdate>20060222</procdate>
			</procstep>
			<procstep>
				<procdesc>Metadata imported.</procdesc>
				<srcused>C:\DOCUME~1\cloftus\LOCALS~1\Temp\xmlE4.tmp</srcused>
			</procstep>
			<procstep>
				<procdesc></procdesc>
			</procstep>
			<procstep><procdesc Sync="TRUE">Metadata imported.</procdesc><srcused Sync="TRUE">C:\DOCUME~1\MATTHE~1.MCB\LOCALS~1\Temp\xml42B7.tmp</srcused><date Sync="TRUE">20070418</date><time Sync="TRUE">15134600</time></procstep></lineage>
	</dataqual>
	<spdoinfo>
		<direct Sync="TRUE">Raster</direct>
		<rastinfo>
			<rasttype Sync="TRUE">Pixel</rasttype>
			<rowcount Sync="TRUE">11704</rowcount>
			<colcount Sync="TRUE">17556</colcount>
			<vrtcount Sync="TRUE">1</vrtcount>
			<rastxsz Sync="TRUE">4.446001</rastxsz><rastysz Sync="TRUE">4.446001</rastysz><rastbpp Sync="TRUE">32</rastbpp><rastorig Sync="TRUE">Upper Left</rastorig><rastcmap Sync="TRUE">FALSE</rastcmap><rastcomp Sync="TRUE">None</rastcomp><rastband Sync="TRUE">1</rastband><rastdtyp Sync="TRUE">pixel RGB</rastdtyp><rastplyr Sync="TRUE">TRUE</rastplyr><rastifor Sync="TRUE"></rastifor></rastinfo>
	</spdoinfo>
	<spref>
		<horizsys>
			<planar>
				<planci>
					<plance Sync="TRUE">row and column</plance>
					<coordrep>
						<absres Sync="TRUE">4.446001</absres>
						<ordres Sync="TRUE">4.446001</ordres>
					</coordrep>
					<plandu Sync="TRUE">meters</plandu></planci>
				<gridsys><gridsysn Sync="TRUE">Universal Transverse Mercator</gridsysn><utm><utmzone Sync="TRUE">4</utmzone><transmer><sfctrmer Sync="TRUE">0.999600</sfctrmer><longcm Sync="TRUE">-159.000000</longcm><latprjo Sync="TRUE">0.000000</latprjo><feast Sync="TRUE">500000.000000</feast><fnorth Sync="TRUE">0.000000</fnorth></transmer></utm></gridsys></planar>
			<geodetic>
				<horizdn Sync="TRUE">North American Datum of 1983</horizdn>
				<ellips Sync="TRUE">Geodetic Reference System 80</ellips>
				<semiaxis Sync="TRUE">6378137.000000</semiaxis>
				<denflat Sync="TRUE">298.257222</denflat>
			</geodetic>
			<cordsysn><geogcsn Sync="TRUE">GCS_North_American_1983</geogcsn><projcsn Sync="TRUE">NAD_1983_UTM_Zone_4N</projcsn></cordsysn></horizsys>
		<vertdef>
			<altsys>
				<altdatum>North American Vertical Datum of 1988</altdatum>
				<altres>0.01</altres>
				<altunits>meters</altunits>
				<altenc>Explicit elevation coordinate included with horizontal coordinates</altenc>
			</altsys>
		</vertdef>
	</spref>
	<eainfo>
		<detailed>
			<enttyp>
				<enttypl>Nominal 5 meter posting grid cell</enttypl>
				<enttypd>
The DEM is a 32 bit IEEE floating point value organized in a one-channel
Band Interleaved by Line file (BIL) on a 7.5-minute by 7.5-minute
geographic (lat/long) grid. The origin of the
post is center center.
</enttypd>
				<enttypds>&lt;URL:http://www.intermap.com/images/handbook/producthandbook.pdf&gt;</enttypds>
			</enttyp>
			<attr>
				<attrlabl>Elevation value per grid cell.</attrlabl>
				<attrdef>Height referenced to North American Vertical Datum of 1988.</attrdef>
				<attrdefs>&lt;URL:http://www.intermap.com/images/handbook/producthandbook.pdf&gt;</attrdefs>
				<attrdomv>
					<rdom>
						<rdommin>15.285</rdommin>
						<rdommax>156.152</rdommax>
						<attrunit>meters</attrunit>
						<attrmres>0.01 m or better</attrmres>
					</rdom>
				</attrdomv>
			</attr>
		</detailed>
		<overview>
			<eaover>
NEXTMap USA Block Number: 3233
&gt;Flight Segment: m3233p22s1
&gt;Flight Direction: 249.82
&gt;Pass Acquisition Start Time (includes GPS week): 137862.0446
&gt;Pass Acquisition Start Time (GPS in HH:MM:SS): 14:17:42
&gt;Pass Acquisition Start Time (UTC in HH:MM:SS): 14:17:29
&gt;Pass Acquisition End Time (includes GPS week): 138439.8596
&gt;Pass Acquisition End Time (GPS in HH:MM:SS): 14:27:19
&gt;Pass Acquisition End Time (UTC in HH:MM:SS): 14:27:6
&gt;Pass Acquisition Date: 17-Oct-05
&gt;Flight Segment: m3233p23s2
&gt;Flight Direction: 249.811
&gt;Pass Acquisition Start Time (includes GPS week): 139289.727
&gt;Pass Acquisition Start Time (GPS in HH:MM:SS): 14:41:29
&gt;Pass Acquisition Start Time (UTC in HH:MM:SS): 14:41:16
&gt;Pass Acquisition End Time (includes GPS week): 139870.6332
&gt;Pass Acquisition End Time (GPS in HH:MM:SS): 14:51:10
&gt;Pass Acquisition End Time (UTC in HH:MM:SS): 14:50:57
&gt;Pass Acquisition Date: 17-Oct-05
&gt;Flight Segment: m3233p31s2
&gt;Flight Direction: 249.896
&gt;Pass Acquisition Start Time (includes GPS week): 295575.4087
&gt;Pass Acquisition Start Time (GPS in HH:MM:SS): 10:6:15
&gt;Pass Acquisition Start Time (UTC in HH:MM:SS): 10:6:2
&gt;Pass Acquisition End Time (includes GPS week): 296227.7226
&gt;Pass Acquisition End Time (GPS in HH:MM:SS): 10:17:7
&gt;Pass Acquisition End Time (UTC in HH:MM:SS): 10:16:54
&gt;Pass Acquisition Date: 19-Oct-05
&gt;Flight Segment: m3233p32s1
&gt;Flight Direction: 249.879
&gt;Pass Acquisition Start Time (includes GPS week): 297177.1371
&gt;Pass Acquisition Start Time (GPS in HH:MM:SS): 10:32:57
&gt;Pass Acquisition Start Time (UTC in HH:MM:SS): 10:32:44
&gt;Pass Acquisition End Time (includes GPS week): 297830.0479
&gt;Pass Acquisition End Time (GPS in HH:MM:SS): 10:43:50
&gt;Pass Acquisition End Time (UTC in HH:MM:SS): 10:43:37
&gt;Pass Acquisition Date: 19-Oct-05
&gt;Base Station: HILO
&gt;  Location: N 19 43 9.0308, W 155 3 9.62008
&gt;  Elevation: 29.241 meters
&gt;  Datum: NAD83
&gt;Base Station: MLO1
&gt;  Location: N 19 32 9.28223, W 155 34 34.27776
&gt;  Elevation: 3429.427 meters
&gt;  Datum: NAD83
&gt;Base Station: PAH1
&gt;  Location: N 19 31 4.42595, W 154 57 42.64533
&gt;  Elevation: 196.736 meters
&gt;  Datum: NAD83
&gt;Base Station: UPO1
&gt;  Location: N 20 14 45.16625, W 155 53 1.65448
&gt;  Elevation: 78.075 meters
&gt;  Datum: NAD83
&gt;Intermap Processing AML Version: 1.1.3, 20031104
&gt;ISO 9001 Certification No.: A8379
</eaover>
			<eadetcit>&lt;URL:http://www.intermap.com/images/handbook/producthandbook.pdf&gt;</eadetcit>
		</overview>
	</eainfo>
	<distinfo>
		<resdesc>Downloadable Data</resdesc>
		<stdorder>
			<digform>
				<digtinfo>
					<transize Sync="TRUE">0.000</transize>
					<dssize Sync="TRUE">0.000</dssize></digtinfo>
			</digform>
		</stdorder>
	</distinfo>
	<metainfo>
		<metd Sync="TRUE">20080519</metd>
		<metc>
			<cntinfo>
				<cntorgp>
					<cntorg>Intermap Technologies Inc.</cntorg>
					<cntper>REQUIRED: The person responsible for the metadata information.</cntper>
				</cntorgp>
				<cntpos>Data Archive Manager</cntpos>
				<cntaddr>
					<addrtype>mailing address</addrtype>
					<address>400 Inverness Drive S., Suite 330</address>
					<city>Englewood</city>
					<state>CO</state>
					<postal>80112-5847</postal>
					<country>USA</country>
				</cntaddr>
				<cntvoice>(303) 708-0955</cntvoice>
				<cntfax>(303) 708-0952</cntfax>
				<cntemail>mailto:info@intermap.com</cntemail>
			</cntinfo>
		</metc>
		<metstdn Sync="TRUE">FGDC Content Standards for Digital Geospatial Metadata</metstdn>
		<metstdv Sync="TRUE">FGDC-STD-001-1998</metstdv>
		<mettc Sync="TRUE">local time</mettc>
		<metextns>
			<onlink>http://www.esri.com/metadata/esriprof80.html</onlink>
			<metprof>ESRI Metadata Profile</metprof>
		</metextns>
		<langmeta Sync="TRUE">en</langmeta><metextns><onlink Sync="TRUE">http://www.esri.com/metadata/esriprof80.html</onlink><metprof Sync="TRUE">ESRI Metadata Profile</metprof></metextns></metainfo>
Individual quads were mosaicked using the MOSAIC function in ERDAS Imagine 9.0.
<Esri><MetaID>{A0C51702-383A-4FA4-8BF8-0ECA86C60DD9}</MetaID><CreaDate>20070418</CreaDate><CreaTime>15134600</CreaTime><SyncOnce>FALSE</SyncOnce><SyncDate>20080519</SyncDate><SyncTime>11465400</SyncTime><ModDate>20080519</ModDate><ModTime>11465400</ModTime></Esri><dataIdInfo><envirDesc Sync="TRUE">Microsoft Windows XP Version 5.1 (Build 2600) Service Pack 2; ESRI ArcCatalog 9.2.4.1420</envirDesc><dataLang><languageCode Sync="TRUE" value="en"></languageCode></dataLang><idCitation><resTitle Sync="TRUE">OahuDSM.img</resTitle><presForm><PresFormCd Sync="TRUE" value="005"></PresFormCd></presForm></idCitation><spatRpType><SpatRepTypCd Sync="TRUE" value="002"></SpatRepTypCd></spatRpType><dataExt><geoEle><GeoBndBox esriExtentType="native"><westBL Sync="TRUE">564624.262391</westBL><eastBL Sync="TRUE">642678.261003</eastBL><northBL Sync="TRUE">2401978.109328</northBL><southBL Sync="TRUE">2349942.110254</southBL><exTypeCode Sync="TRUE">1</exTypeCode></GeoBndBox></geoEle></dataExt><geoBox esriExtentType="decdegrees"><westBL Sync="TRUE">-158.377153</westBL><eastBL Sync="TRUE">-157.62057</eastBL><northBL Sync="TRUE">21.720111</northBL><southBL Sync="TRUE">21.245531</southBL><exTypeCode Sync="TRUE">1</exTypeCode></geoBox></dataIdInfo><mdLang><languageCode Sync="TRUE" value="en"></languageCode></mdLang><mdStanName Sync="TRUE">ISO 19115 Geographic Information - Metadata</mdStanName><mdStanVer Sync="TRUE">DIS_ESRI1.0</mdStanVer><mdChar><CharSetCd Sync="TRUE" value="004"></CharSetCd></mdChar><mdHrLv><ScopeCd Sync="TRUE" value="005"></ScopeCd></mdHrLv><mdHrLvName Sync="TRUE">dataset</mdHrLvName><distInfo><distributor><distorTran><onLineSrc><linkage Sync="TRUE">file://\\psc-s-puka\gis1\GIS\Databank\Terrestrial\Topography\IfSAR\Hawaii\Projected Mosaics\DSM\OahuDSM.img</linkage><protocol Sync="TRUE">Local Area Network</protocol><orDesc Sync="TRUE">002</orDesc></onLineSrc><transSize Sync="TRUE">0.000</transSize></distorTran><distorFormat><formatName Sync="TRUE">Raster Dataset</formatName></distorFormat></distributor></distInfo><refSysInfo><RefSystem><refSysID><identCode Sync="TRUE">NAD_1983_UTM_Zone_4N</identCode></refSysID></RefSystem></refSysInfo><spatRepInfo><GridSpatRep><numDims Sync="TRUE">2</numDims><cellGeo><CellGeoCd Sync="TRUE" value="002"></CellGeoCd></cellGeo><tranParaAv Sync="TRUE">1</tranParaAv><axDimProps><Dimen><dimName><DimNameTypCd Sync="TRUE" value="002"></DimNameTypCd></dimName><dimSize Sync="TRUE">17556</dimSize><dimResol><value Sync="TRUE">4.446001</value><uom><UomLength><uomName Sync="TRUE">Meter</uomName><conversionToISOstandardUnit Sync="TRUE">1 Meter = 1 Meter(s)</conversionToISOstandardUnit></UomLength></uom></dimResol></Dimen><Dimen><dimName><DimNameTypCd Sync="TRUE" value="001"></DimNameTypCd></dimName><dimSize Sync="TRUE">11704</dimSize><dimResol><value Sync="TRUE">4.446001</value><uom><UomLength><uomName Sync="TRUE">Meter</uomName><conversionToISOstandardUnit Sync="TRUE">1 Meter = 1 Meter(s)</conversionToISOstandardUnit></UomLength></uom></dimResol></Dimen></axDimProps></GridSpatRep></spatRepInfo><mdDateSt Sync="TRUE">20080519</mdDateSt></metadata>
