<?xml version="1.0" encoding="ISO-8859-1"?>
<!DOCTYPE metadata SYSTEM "http://www.fgdc.gov/metadata/fgdc-std-001-1998.dtd">
<metadata>
	<idinfo>
		<citation>
			<citeinfo>
				<origin>Science Applications International Corporation (SAIC)</origin>
				<pubdate>200605</pubdate>
				<title Sync="TRUE">honolulu_downtown_bare_earth.img</title>
				<geoform Sync="TRUE">remote-sensing image</geoform>
				<pubinfo>
					<pubplace>Chantilly, VA</pubplace>
					<publish>Science Applications International Corp. (SAIC)</publish>
				</pubinfo>
				<othercit>Bare Earth DEM</othercit>
				<ftname Sync="TRUE">honolulu_downtown_bare_earth.img</ftname><onlink Sync="TRUE">\\144-vdu\lidar_temp\Honolulu\Delivery\honolulu_downtown_bare_earth.img</onlink></citeinfo>
		</citation>
		<descript>
			<abstract>LIDAR data is remotely sensed high-resolution elevation data collected by an airborne collection platform.  Using a combination of laser rangefinding, GPS positioning and inertial measurement technologies; LIDAR instruments are able to make highly detailed Digital Elevation Models (DEMs) of the earth's terrain, man-made structures and vegetation.  This data was collected at a resolution of 1 meter and includes reflective surface, last return, bare earth model and intensity data in separate data files.</abstract>
			<purpose>LIDAR data is used for 3D visualization, elevation based analysis and for feature extraction.</purpose>
			<supplinf>Reflective surface data represents the DEM created by laser energy reflected from the first surface encountered by the laser pulse.  

Some energy may continue beyond this initial surface to be reflected by a subsequent surface as represented by the Last Return data.  

Intensity information is captured from the Reflective Surface pulse and indicates the relative energy returned to the sensor as compared to the energy transmitted.  The Intensity image is not calibrated or normalized but indicates differences in energy absorption due to the the interaction of the surface materials with laser energy at the wavelength transmitted by the sensor.  

Bare earth model is created by identifying those returns that fall on the ground surface and interpolating a surface between these points.  In this manner buildings and vegetation are removed from Bare Earth Model.   This data set does not include bridges and overpasses in the Bare Earth model as the delineation point for these structures is not reliably discernable in the LiDAR data.</supplinf>
			<langdata Sync="TRUE">en</langdata></descript>
		<timeperd>
			<timeinfo>
				<rngdates>
					<begdate>20051222</begdate>
					<enddate>20051229</enddate>
				</rngdates>
				<sngdate><caldate>REQUIRED: The year (and optionally month, or month and day) for which the data set corresponds to the ground.</caldate></sngdate></timeinfo>
			<current>ground condition</current>
		</timeperd>
		<status>
			<progress>Complete</progress>
			<update>Irregular</update>
		</status>
		<spdom>
			<bounding>
				<westbc>
-80.004604</westbc>
				<eastbc>
-79.852824</eastbc>
				<northbc>
32.927503</northbc>
				<southbc>
32.763689</southbc>
			</bounding>
			<lboundng><leftbc Sync="TRUE">591000.000000</leftbc><rightbc Sync="TRUE">642000.000000</rightbc><bottombc Sync="TRUE">2350000.000000</bottombc><topbc Sync="TRUE">2369000.000000</topbc></lboundng></spdom>
		<keywords>
			<theme>
				<themekt>Light Distancing And Ranging</themekt>
				<themekey>LIDAR</themekey>
			</theme>
			<theme>
				<themekt>Digital Elevation Model</themekt>
				<themekey>DEM</themekey>
			</theme>
			<theme>
				<themekt>Average ground sample distance 1m</themekt>
				<themekey>1meter resolution elevation model</themekey>
			</theme>
			<theme>
				<themekey>Bare Earth</themekey>
			</theme>
			<place>
				<placekt>U.S. Department of Commerce, 1995, Countries, Dependencies, Areas of Special Sovereignty, and Their Principal Administrative Divisions (Federal Information Processing Standard (FIPS) 10-4): Washington, D.C., National Institute of Standards and Technology</placekt>
				<placekey>US</placekey>
			</place>
			<place>
				<placekt>U.S. Department of Commerce, 1987, Codes for the Indentification of the States, the District of Columbia and the outlying areas of the United States, and associated areas (Federal Information Processing Standards (FIPS) 5-2): Washington, D.C., National Institute of Standards and Technology.</placekt>
				<placekey>HI</placekey>
			</place>
			<place>
				<placekt>City name</placekt>
				<placekey>Honolulu</placekey>
			</place>
			<place>
				<placekt>Location Description</placekt>
				<placekey>Downtown</placekey>
			</place>
		</keywords>
		<accconst>None</accconst>
		<useconst>None.  However, users should be aware that temporal changes may have occurred since this data set was collected and some parts of this data may no longer represent actual surface conditions.  Users should not use this data for critical applications without a full awareness of it's limitations.</useconst>
		<ptcontac>
			<cntinfo>
				<cntorgp>
					<cntorg>National Geospatial-Intelligence Agency</cntorg>
				</cntorgp>
			</cntinfo>
		</ptcontac>
		<datacred>n/a</datacred>
		<secinfo>
			<secclass>Unclassified</secclass>
		</secinfo>
		<native Sync="TRUE">Microsoft Windows XP Version 5.1 (Build 2600) Service Pack 2; ESRI ArcCatalog 9.1.0.722</native>
		<natvform Sync="TRUE">Raster Dataset</natvform></idinfo>
	<dataqual>
		<logic>All IMG formatted image data are validated using commercial GIS software to ensure proper formatting and loading before delivery.  This validation procedure ensures that data on delivery media is in correct physical format and is readable.</logic>
		<complete>LIDAR raster data is visually inspected for completeness to ensure that any gaps between flight lines or loss of signal represents less than 5% of required collection area.  Areas of open water where loss of LIDAR signal is common are corrected to the best estimate of water level at time of collection.  Areas of NODATA resulting from differences between required collection area and minimum bounding rectangle and/or areas of missing data are coded -999 to ensure compatibility between ESRI production software and ERDAS delivery format.  LIDAR is self-illuminating and has minimal cloud penetration capability.  Water vapor in steam plumes or particulates in smoke may cause reflection of LIDAR signals and loss of elevation information beneath these plumes.  Glass structures and roofs may appear transparent to the LIDAR signal and therefore may not register on the reflective surface.  Some asphalt formulations have been shown to absorb topographic LIDAR wavelength energy resulting in "pitting" of roof surfaces using this material.</complete>
		<posacc>
			<horizpa>
				<horizpar>Horizontal accuracy of the source LIDAR data can be characterized by the rule of thumb of 1/2000th of flying height or roughly 0.5 meters for this collect.  Spot checks in the field routinely are measured at 1/4000th of flying height but are not formally characterized.</horizpar>
				<qhorizpa>
					<horizpav>Better than 1m</horizpav>
				</qhorizpa>
			</horizpa>
			<vertacc>
				<vertaccr>The vertical accuracy was tested following the National Standards for Spatial Data Accuracy.  Based on a total of 61 points (53 QC checkpoints, and 8 GPS points), the average error between the bare earth LiDAR coverage and the control was 0.002 m with a root mean square error (RMSE) of 0.089 m.</vertaccr>
				<qvertpa>
					<vertaccv>0.002 m</vertaccv>
					<vertacce>Average error between Bare Earth LiDAR coverage and control</vertacce>
				</qvertpa>
				<qvertpa>
					<vertaccv>0.089 m</vertaccv>
					<vertacce>root mean square error (RMSE)</vertacce>
				</qvertpa>
			</vertacc>
		</posacc>
		<lineage>
			<srcinfo>
				<srccite>
					<citeinfo>
						<origin>Woolpert LLP</origin>
						<pubdate>Unpublished Material</pubdate>
						<title>LIDAR data collection</title>
						<othercit>- Type Of Scanner = LH Systems ALS50
- Data Acquisition Height = 3,000-feet AGL
- Scanner Field Of View = 40 degrees
- Scan Frequency = 36 Hertz
- Pulse Repetition Rate - 52.3 KiloHertz
- Aircraft Speed = 130 KIAS
- Swath Width = 2184-feet
- Nominal Ground Sample Distance = 3.0-feet
- Number of Returns Per Pulse = 2 (first and last)
- Distance Between Flight Lines = 1,529-feet</othercit>
					</citeinfo>
				</srccite>
				<srcscale>3000</srcscale>
				<typesrc>DVD-ROM</typesrc>
				<srctime>
					<timeinfo>
						<rngdates>
							<begdate>20051228</begdate>
							<enddate>20051229</enddate>
						</rngdates>
					</timeinfo>
					<srccurr>ground condition</srccurr>
				</srctime>
				<srccitea>LIDAR</srccitea>
			</srcinfo>
			<srcinfo>
				<srccite>
					<citeinfo>
						<origin>Woolpert LLP</origin>
						<pubdate>Unpublished Material</pubdate>
						<title>Collection System Calibration</title>
						<othercit>The ALS50 calibration and system performance is verified on a periodic basis using Woolpert's calibration range. The calibration range consists of a large building and runway. The edges of the building and control points along the runway have been located using conventional survey methods. Inertial measurement unit (IMU) misalignment angles and horizontal accuracy are calculated by comparing the position of the building edges between opposing flight lines. The scanner scale factor and vertical accuracy is calculated through comparison of LiDAR data against control points along the runway. Field calibration is performed on all flight lines to refine the IMU misalignment angles. IMU misalignment angles are calculated from the relative displacement of features within the overlap region of adjacent (and opposing) flight lines. The raw LiDAR data is reduced using the refined misalignment angles.</othercit>
					</citeinfo>
				</srccite>
			</srcinfo>
			<procstep>
				<procdesc>Production Narrative:  

Using a LH Systems ALS50 Light Detection and Ranging LiDAR) system, 122 flight lines of high density (submeter ground sample distance) data were collected over Honolulu, HI area (approximately 395 square kilometers).  Two returns were recorded for each laser pulse along with an intensity value for each return.  One mission was flown over a seven days period:  on December 22, 23, 24, 25, 26 and 29th, 2005.  Two airborne global positioning system (GPS) base stations were used to support the LiDAR data acquisition: AFS1 and ZHN1, sites that Woolpert located using static GPS positioning methods.  In addition, eight control points were surveyed through real-time kinematic (RTK) methods, tied into NGS points  1 5, 161 2340 TIDAL 21, A 111, B 111, L 13, STATE SURVEY 4 22, WAIKIKI 3, ZHN B to support the final accuracy analysis.

Airborne GPS data was differentially processed and integrated with the post processed IMU data to derive a smoothed best estimate of trajectory (SBET).  The SBET was used to reduce the LiDAR slant range measurements to a raw reflective surface for each flight line.  The coverage was classified to extract a bare earth digital elevation model (DEM) and separate last returns.  

Four layers of coverage were delivered in the ArcINFO ArcGrid binary format: reflective surface, bare-earth, last return and intensity.  
</procdesc>
				<procdate>200512</procdate>
			</procstep>
			<procstep>
				<procdesc>System Calibration Procedure:

The ALS50 calibration and system performance is verified on a periodic basis using Woolpert's calibration range.  The calibration range consists of a large building and runway.  The edges of the building and control points along the runway have been located using conventional survey methods.  Inertial measurement unit (IMU) misalignment angles and horizontal accuracy are calculated by comparing the position of the building edges between opposing flight lines. The scanner scale factor and vertical accuracy is calculated through comparison of LiDAR data against control points along the runway.  

Field calibration is performed on all flight lines to refine the IMU misalignment angles.  IMU misalignment angles are calculated from the relative displacement of features within the overlap region of adjacent (and opposing) flight lines.  The raw LiDAR data is reduced using the refined misalignment angles.

Post Processing Procedure:

Airborne GPS is differentially processed using the POSGPS V4.2 software by Applanix Corporation of Richmond Hill, Ontario, Canada.  The PDOP and distance separation by day is as follows:

Mission 1 - December 22, 2005 (AFS1):
Average PDOP = 2.5
Average Distance Separation: 15 km

Mission 2 - December 22, 2005 (AFS1):          				                  
Average PDOP = 2.3
Average Distance Separation: 15 km

Mission 3 - December 23, 2005 (AFS1):	                 			            
Average PDOP = 2.5
Average Distance Separation: 20 km

Mission 4 - December 23 2005 (AFS1):	             			            
Average PDOP = 2
Average Distance Separation: 25 km

Mission 5 - December 24, 2005 (AFS1):		           					
Average PDOP = 2
Average Distance Separation: 15 km

Mission 6 - December 24, 2005 (AFS1):								Average PDOP = 2.5
Average Distance Separation: 18 km

Mission 7 - December 24, 2005 (AFS1):								Average PDOP = 2
Average Distance Separation: 15 km

Mission 8 - December 25, 2005 (AFS1):								Average PDOP = 1.6
Average Distance Separation: 25 km

Mission 9 - December 26, 2005 (AFS1):								Average PDOP = 3
Average Distance Separation: 20 km

Mission 10 - December 26, 2005 (AFS1):								Average PDOP = 2.2
Average Distance Separation: 18 km

Mission 11 - December 26, 2005 (AFS1):								Average PDOP = 2.8
Average Distance Separation: 10 km

Mission 12 - December 29, 2005 (AFS1):								Average PDOP = 1.2
Average Distance Separation: 10 km

Mission 13 - December 29, 2005 (AFS1):								Average PDOP = 1.6
Average Distance Separation: 12 km
IMU data is processed using the PosPac V4.2 software by Applanix Corporation of Richmond Hill, Ontario, Canada. 

The reflective surface is derived using the ALS Post Processor software by Leica Geosystems GIS &amp; Mapping Division of Atlanta, Georgia.

The classification and quality control (QC) of LiDAR data is carried out using a combination of Woolpert proprietary software and TerraScan software by Terrasolid Limited of Helinski, Finland.</procdesc>
				<procdate>200512</procdate>
			</procstep>
			<procstep>
				<procdesc>Data Consolidation and Review:
Raw LiDAR data is delivered in small tiles in ESRI GRID format.  These tiles are merged into larger ESRI GRID files, limited by the 2.1GB limit of this format, and reviewed for quality and consistency.  Preliminary Bare Earth surface is reviewed and edited as required to remove or add features to bare earth surface as required by cartographic requirements.</procdesc>
				<procdate>200602</procdate>
			</procstep>
			<procstep>
				<procdesc>Data Conversion:
Merged tiles of ESRI GRID formatted data are converted to ERDAS Imagine image format.  Areas coded as NODATA in ESRI GRID format are converted to -999 in ERDAS IMG format.  IMG files are encoded with projection information for proper zone and datum as part of conversion process.  Due to ESRI GRID size limitation of 2.1GB, contiguous areas that would result in larger file sizes are tiled in the fewest number of tiles permitted by the 2.1GB limit.</procdesc>
				<procdate>200605</procdate>
			</procstep>
			<procstep>
				<procdesc>Post Conversion Q/C:
Converted IMG files are verified for format and content in ERDAS IMAGINE environment. Metadata and spatial reference were also added.</procdesc>
				<procdate>200605</procdate>
			</procstep>
			<procstep>
				<procdesc>Transfer to delivery media:
Data is transferred from hard-disk to DVD delivery media using a Primera Bravo DVD/CDROM disc publishing hardware.</procdesc>
				<procdate>200605</procdate>
			</procstep>
			<procstep><procdesc Sync="TRUE">Metadata imported.</procdesc><srcused Sync="TRUE">S:\Honolulu\Metadata\bareearth.xml</srcused><date Sync="TRUE">20060607</date><time Sync="TRUE">13005600</time></procstep></lineage>
		<cloud>n/a</cloud>
	</dataqual>
	<spdoinfo>
		<direct Sync="TRUE">Raster</direct>
		<rastinfo>
			<rasttype Sync="TRUE">Pixel</rasttype>
			<rowcount Sync="TRUE">19000</rowcount>
			<colcount Sync="TRUE">51000</colcount>
			<vrtcount Sync="TRUE">1</vrtcount>
			<rastxsz Sync="TRUE">1.000000</rastxsz><rastysz Sync="TRUE">1.000000</rastysz><rastbpp Sync="TRUE">32</rastbpp><rastorig Sync="TRUE">Upper Left</rastorig><rastcmap Sync="TRUE">FALSE</rastcmap><rastcomp Sync="TRUE">None</rastcomp><rastband Sync="TRUE">1</rastband><rastdtyp Sync="TRUE">pixel RGB</rastdtyp><rastplyr Sync="TRUE">TRUE</rastplyr><rastifor Sync="TRUE">ERDAS IMAGINE</rastifor></rastinfo>
	</spdoinfo>
	<spref>
		<horizsys>
			<planar>
				<planci>
					<plance Sync="TRUE">row and column</plance>
					<coordrep>
						<absres Sync="TRUE">1.000000</absres>
						<ordres Sync="TRUE">1.000000</ordres>
					</coordrep>
					<plandu>meters</plandu>
				</planci>
				<gridsys><gridsysn Sync="TRUE">Universal Transverse Mercator</gridsysn><utm><utmzone Sync="TRUE">4</utmzone><transmer><sfctrmer Sync="TRUE">0.999600</sfctrmer><longcm Sync="TRUE">-159.000000</longcm><latprjo Sync="TRUE">0.000000</latprjo><feast Sync="TRUE">500000.000000</feast><fnorth Sync="TRUE">0.000000</fnorth></transmer></utm></gridsys></planar>
			<geodetic>
				<horizdn>D_WGS_1984</horizdn>
				<ellips>WGS_1984</ellips>
				<semiaxis>6378137.000000</semiaxis>
				<denflat>298.257224</denflat>
			</geodetic>
			<cordsysn><geogcsn Sync="TRUE">GCS_WGS_1984</geogcsn><projcsn Sync="TRUE">WGS_1984_UTM_Zone_4N</projcsn></cordsysn></horizsys>
		<vertdef>
			<altsys>
				<altdatum>North American Vertical Datum of 1988</altdatum>
				<altres>.1</altres>
				<altunits>meters</altunits>
				<altenc>Explicit elevation coordinate included with horizontal coordinates</altenc>
			</altsys>
		</vertdef>
	</spref>
	<eainfo>
		<detailed>
			<enttyp>
				<enttypl>
Band_1</enttypl>
			</enttyp>
			<attr>
				<attrlabl>ObjectID</attrlabl>
				<attrdef>Internal feature number.</attrdef>
				<attrdefs>ESRI</attrdefs>
				<attrdomv>
					<udom>Sequential unique whole numbers that are automatically generated.</udom>
				</attrdomv>
			</attr>
			<attr>
				<attrlabl>Value</attrlabl>
				<attrdef>Elevation value, in meters</attrdef>
			</attr>
			<attr>
				<attrlabl>Count</attrlabl>
			</attr>
		</detailed>
	</eainfo>
	<distinfo>
		<resdesc>Downloadable Data</resdesc>
		<stdorder>
			<digform>
				<digtinfo>
					<transize Sync="TRUE">0.000</transize>
					<dssize Sync="TRUE">0.000</dssize></digtinfo>
			</digform>
		</stdorder>
	</distinfo>
	<metainfo>
		<metd Sync="TRUE">20060607</metd>
		<metc>
			<cntinfo>
				<cntorgp>
					<cntorg>National Geospatial-Intelligence Agency (NGA)</cntorg>
					<cntper>REQUIRED: The person responsible for the metadata information.</cntper>
				</cntorgp>
				<cntaddr>
					<addrtype>21300 Sunrise Valley Drive</addrtype>
					<city>Reston</city>
					<state>VA</state>
					<postal>20191</postal>
					<country>USA</country>
				</cntaddr>
				<cntvoice>REQUIRED: The telephone number by which individuals can speak to the organization or individual.</cntvoice>
			</cntinfo>
		</metc>
		<metstdn Sync="TRUE">FGDC Content Standards for Digital Geospatial Metadata</metstdn>
		<metstdv Sync="TRUE">FGDC-STD-001-1998</metstdv>
		<mettc Sync="TRUE">local time</mettc>
		<metextns>
			<onlink>http://www.esri.com/metadata/esriprof80.html</onlink>
			<metprof>ESRI Metadata Profile</metprof>
		</metextns>
		<metextns>
			<onlink>http://www.esri.com/metadata/esriprof80.html</onlink>
			<metprof>ESRI Metadata Profile</metprof>
		</metextns>
		<langmeta Sync="TRUE">en</langmeta><metextns><onlink Sync="TRUE">http://www.esri.com/metadata/esriprof80.html</onlink><metprof Sync="TRUE">ESRI Metadata Profile</metprof></metextns></metainfo>
	<Esri><ModDate>20060607</ModDate><ModTime>14040300</ModTime><MetaID>{C08072FE-6634-4783-AEC0-9F254A3DFA7D}</MetaID><CreaDate>20060607</CreaDate><CreaTime>13005600</CreaTime><SyncOnce>FALSE</SyncOnce><SyncDate>20060607</SyncDate><SyncTime>14040300</SyncTime><DataProperties><lineage><Process Name="DefineProjection_1" ToolSource="C:\Program Files\ArcGIS\ArcToolbox\Toolboxes\Data Management Tools.tbx\DefineProjection" Date="20060607" Time="130811">DefineProjection S:\Honolulu\Delivery\honlulu_downtown_bare_earth.img PROJCS['WGS_1984_UTM_Zone_4N',GEOGCS['GCS_WGS_1984',DATUM['D_WGS_1984',SPHEROID['WGS_1984',6378137.0,298.257223563]],PRIMEM['Greenwich',0.0],UNIT['Degree',0.0174532925199433]],PROJECTION['Transverse_Mercator'],PARAMETER['False_Easting',500000.0],PARAMETER['False_Northing',0.0],PARAMETER['Central_Meridian',-159.0],PARAMETER['Scale_Factor',0.9996],PARAMETER['Latitude_Of_Origin',0.0],UNIT['Meter',1.0]] S:\Honolulu\Delivery\honlulu_downtown_bare_earth.img</Process></lineage></DataProperties></Esri><mdDateSt Sync="TRUE">20060607</mdDateSt><dataIdInfo><envirDesc Sync="TRUE">Microsoft Windows XP Version 5.1 (Build 2600) Service Pack 2; ESRI ArcCatalog 9.1.0.722</envirDesc><dataLang><languageCode Sync="TRUE" value="en"></languageCode></dataLang><idCitation><resTitle Sync="TRUE">honolulu_downtown_bare_earth.img</resTitle><presForm><PresFormCd Sync="TRUE" value="005"></PresFormCd></presForm></idCitation><spatRpType><SpatRepTypCd Sync="TRUE" value="002"></SpatRepTypCd></spatRpType><dataExt><geoEle><GeoBndBox esriExtentType="native"><westBL Sync="TRUE">591000</westBL><eastBL Sync="TRUE">642000</eastBL><northBL Sync="TRUE">2369000</northBL><southBL Sync="TRUE">2350000</southBL><exTypeCode Sync="TRUE">1</exTypeCode></GeoBndBox></geoEle></dataExt><geoBox esriExtentType="decdegrees"><westBL Sync="TRUE">-158.122961</westBL><eastBL Sync="TRUE">-157.629928</eastBL><northBL Sync="TRUE">21.42103</northBL><southBL Sync="TRUE">21.246107</southBL><exTypeCode Sync="TRUE">1</exTypeCode></geoBox></dataIdInfo><mdLang><languageCode Sync="TRUE" value="en"></languageCode></mdLang><mdStanName Sync="TRUE">ISO 19115 Geographic Information - Metadata</mdStanName><mdStanVer Sync="TRUE">DIS_ESRI1.0</mdStanVer><mdChar><CharSetCd Sync="TRUE" value="004"></CharSetCd></mdChar><mdHrLv><ScopeCd Sync="TRUE" value="005"></ScopeCd></mdHrLv><mdHrLvName Sync="TRUE">dataset</mdHrLvName><distInfo><distributor><distorTran><onLineSrc><orDesc Sync="TRUE">002</orDesc><linkage Sync="TRUE">file://\\144-vdu\lidar_temp\Honolulu\Delivery\honolulu_downtown_bare_earth.img</linkage><protocol Sync="TRUE">Local Area Network</protocol></onLineSrc><transSize Sync="TRUE">0.000</transSize></distorTran><distorFormat><formatName Sync="TRUE">Raster Dataset</formatName></distorFormat></distributor></distInfo><spatRepInfo><GridSpatRep><numDims Sync="TRUE">2</numDims><cellGeo><CellGeoCd Sync="TRUE" value="002"></CellGeoCd></cellGeo><tranParaAv Sync="TRUE">1</tranParaAv><axDimProps><Dimen><dimName><DimNameTypCd Sync="TRUE" value="002"></DimNameTypCd></dimName><dimSize Sync="TRUE">51000</dimSize><dimResol><value Sync="TRUE">1</value><uom><UomLength><uomName Sync="TRUE">Meter</uomName><conversionToISOstandardUnit Sync="TRUE">1 Meter = 1 Meter(s)</conversionToISOstandardUnit></UomLength></uom></dimResol></Dimen><Dimen><dimName><DimNameTypCd Sync="TRUE" value="001"></DimNameTypCd></dimName><dimSize Sync="TRUE">19000</dimSize><dimResol><value Sync="TRUE">1</value><uom><UomLength><uomName Sync="TRUE">Meter</uomName><conversionToISOstandardUnit Sync="TRUE">1 Meter = 1 Meter(s)</conversionToISOstandardUnit></UomLength></uom></dimResol></Dimen></axDimProps></GridSpatRep></spatRepInfo><refSysInfo>